BEGIN:VCALENDAR
VERSION:2.0
PRODID:-//Karaoke all over the world - ECPv6.15.20//NONSGML v1.0//EN
CALSCALE:GREGORIAN
METHOD:PUBLISH
X-WR-CALNAME:Karaoke all over the world
X-ORIGINAL-URL:https://dieselkaraoke.ch
X-WR-CALDESC:Veranstaltungen für Karaoke all over the world
REFRESH-INTERVAL;VALUE=DURATION:PT1H
X-Robots-Tag:noindex
X-PUBLISHED-TTL:PT1H
BEGIN:VTIMEZONE
TZID:Europe/Zurich
BEGIN:DAYLIGHT
TZOFFSETFROM:+0100
TZOFFSETTO:+0200
TZNAME:CEST
DTSTART:20240331T010000
END:DAYLIGHT
BEGIN:STANDARD
TZOFFSETFROM:+0200
TZOFFSETTO:+0100
TZNAME:CET
DTSTART:20241027T010000
END:STANDARD
BEGIN:DAYLIGHT
TZOFFSETFROM:+0100
TZOFFSETTO:+0200
TZNAME:CEST
DTSTART:20250330T010000
END:DAYLIGHT
BEGIN:STANDARD
TZOFFSETFROM:+0200
TZOFFSETTO:+0100
TZNAME:CET
DTSTART:20251026T010000
END:STANDARD
BEGIN:DAYLIGHT
TZOFFSETFROM:+0100
TZOFFSETTO:+0200
TZNAME:CEST
DTSTART:20260329T010000
END:DAYLIGHT
BEGIN:STANDARD
TZOFFSETFROM:+0200
TZOFFSETTO:+0100
TZNAME:CET
DTSTART:20261025T010000
END:STANDARD
END:VTIMEZONE
BEGIN:VEVENT
DTSTART;TZID=Europe/Zurich:20251102T140000
DTEND;TZID=Europe/Zurich:20251102T180000
DTSTAMP:20260421T120027
CREATED:20251015T132245Z
LAST-MODIFIED:20251015T133451Z
UID:597-1762092000-1762106400@dieselkaraoke.ch
SUMMARY:Karaoke Inklusiv
DESCRIPTION:Endlich ist es wieder so weit! Herz erwärmend\, genial super cool und unschlagbar dieser inklusive Ort! Kommt vorbei singt klatscht und tanzt mit uns! kommt zahlreich und singt ohne ende!
URL:https://dieselkaraoke.ch/event/karaoke-inklusiv/
CATEGORIES:NEXT GIGS
END:VEVENT
END:VCALENDAR