BEGIN:VCALENDAR
VERSION:2.0
PRODID:-//Karaoke all over the world - ECPv6.15.20//NONSGML v1.0//EN
CALSCALE:GREGORIAN
METHOD:PUBLISH
X-WR-CALNAME:Karaoke all over the world
X-ORIGINAL-URL:https://dieselkaraoke.ch
X-WR-CALDESC:Veranstaltungen für Karaoke all over the world
REFRESH-INTERVAL;VALUE=DURATION:PT1H
X-Robots-Tag:noindex
X-PUBLISHED-TTL:PT1H
BEGIN:VTIMEZONE
TZID:Europe/Zurich
BEGIN:DAYLIGHT
TZOFFSETFROM:+0100
TZOFFSETTO:+0200
TZNAME:CEST
DTSTART:20240331T010000
END:DAYLIGHT
BEGIN:STANDARD
TZOFFSETFROM:+0200
TZOFFSETTO:+0100
TZNAME:CET
DTSTART:20241027T010000
END:STANDARD
BEGIN:DAYLIGHT
TZOFFSETFROM:+0100
TZOFFSETTO:+0200
TZNAME:CEST
DTSTART:20250330T010000
END:DAYLIGHT
BEGIN:STANDARD
TZOFFSETFROM:+0200
TZOFFSETTO:+0100
TZNAME:CET
DTSTART:20251026T010000
END:STANDARD
BEGIN:DAYLIGHT
TZOFFSETFROM:+0100
TZOFFSETTO:+0200
TZNAME:CEST
DTSTART:20260329T010000
END:DAYLIGHT
BEGIN:STANDARD
TZOFFSETFROM:+0200
TZOFFSETTO:+0100
TZNAME:CET
DTSTART:20261025T010000
END:STANDARD
END:VTIMEZONE
BEGIN:VEVENT
DTSTART;TZID=Europe/Zurich:20250731T230000
DTEND;TZID=Europe/Zurich:20250731T230000
DTSTAMP:20260421T192034
CREATED:20250602T123842Z
LAST-MODIFIED:20250829T064457Z
UID:557-1754002800-1754002800@dieselkaraoke.ch
SUMMARY:Hallo Lakelive Festival\, wir sind zurück!
DESCRIPTION:Nach genau einem Jahr starten wir in die dritte Runde. Auch der letztjährige Erfolg war riesen gross\, so viele Menschen rockten die Bühne mit uns!  \n\n\n\nDeshalb werden wir wieder auf der Container Stage zu finden sein… einfach den vielen tollen\, glücklich singenden Menschen folgen. \n\n\n\nKommt zahlreich und singt mit uns!
URL:https://dieselkaraoke.ch/event/hallo-lakelive-festival-wir-sind-zurueck/
LOCATION:Lakelive
CATEGORIES:PAST EVENT
END:VEVENT
END:VCALENDAR