BEGIN:VCALENDAR
VERSION:2.0
PRODID:-//Karaoke all over the world - ECPv6.15.20//NONSGML v1.0//EN
CALSCALE:GREGORIAN
METHOD:PUBLISH
X-WR-CALNAME:Karaoke all over the world
X-ORIGINAL-URL:https://dieselkaraoke.ch
X-WR-CALDESC:Veranstaltungen für Karaoke all over the world
REFRESH-INTERVAL;VALUE=DURATION:PT1H
X-Robots-Tag:noindex
X-PUBLISHED-TTL:PT1H
BEGIN:VTIMEZONE
TZID:Europe/Zurich
BEGIN:DAYLIGHT
TZOFFSETFROM:+0100
TZOFFSETTO:+0200
TZNAME:CEST
DTSTART:20240331T010000
END:DAYLIGHT
BEGIN:STANDARD
TZOFFSETFROM:+0200
TZOFFSETTO:+0100
TZNAME:CET
DTSTART:20241027T010000
END:STANDARD
BEGIN:DAYLIGHT
TZOFFSETFROM:+0100
TZOFFSETTO:+0200
TZNAME:CEST
DTSTART:20250330T010000
END:DAYLIGHT
BEGIN:STANDARD
TZOFFSETFROM:+0200
TZOFFSETTO:+0100
TZNAME:CET
DTSTART:20251026T010000
END:STANDARD
BEGIN:DAYLIGHT
TZOFFSETFROM:+0100
TZOFFSETTO:+0200
TZNAME:CEST
DTSTART:20260329T010000
END:DAYLIGHT
BEGIN:STANDARD
TZOFFSETFROM:+0200
TZOFFSETTO:+0100
TZNAME:CET
DTSTART:20261025T010000
END:STANDARD
END:VTIMEZONE
BEGIN:VEVENT
DTSTART;TZID=Europe/Zurich:20250423T180000
DTEND;TZID=Europe/Zurich:20250423T230000
DTSTAMP:20260422T001240
CREATED:20250412T114655Z
LAST-MODIFIED:20250514T101827Z
UID:527-1745431200-1745449200@dieselkaraoke.ch
SUMMARY:ROCK´N´ROLL BUTTERFAHRT
DESCRIPTION:…singen am Strand von Helgoland..
URL:https://dieselkaraoke.ch/event/rocknroll-butterfahrt/
CATEGORIES:PAST EVENT
ATTACH;FMTTYPE=image/jpeg:https://dieselkaraoke.ch/wp-content/uploads/2025/04/20250411_094847.jpg
END:VEVENT
END:VCALENDAR