BEGIN:VCALENDAR
VERSION:2.0
PRODID:-//Karaoke all over the world - ECPv6.15.20//NONSGML v1.0//EN
CALSCALE:GREGORIAN
METHOD:PUBLISH
X-ORIGINAL-URL:https://dieselkaraoke.ch
X-WR-CALDESC:Veranstaltungen für Karaoke all over the world
REFRESH-INTERVAL;VALUE=DURATION:PT1H
X-Robots-Tag:noindex
X-PUBLISHED-TTL:PT1H
BEGIN:VTIMEZONE
TZID:Europe/Zurich
BEGIN:DAYLIGHT
TZOFFSETFROM:+0100
TZOFFSETTO:+0200
TZNAME:CEST
DTSTART:20240331T010000
END:DAYLIGHT
BEGIN:STANDARD
TZOFFSETFROM:+0200
TZOFFSETTO:+0100
TZNAME:CET
DTSTART:20241027T010000
END:STANDARD
BEGIN:DAYLIGHT
TZOFFSETFROM:+0100
TZOFFSETTO:+0200
TZNAME:CEST
DTSTART:20250330T010000
END:DAYLIGHT
BEGIN:STANDARD
TZOFFSETFROM:+0200
TZOFFSETTO:+0100
TZNAME:CET
DTSTART:20251026T010000
END:STANDARD
BEGIN:DAYLIGHT
TZOFFSETFROM:+0100
TZOFFSETTO:+0200
TZNAME:CEST
DTSTART:20260329T010000
END:DAYLIGHT
BEGIN:STANDARD
TZOFFSETFROM:+0200
TZOFFSETTO:+0100
TZNAME:CET
DTSTART:20261025T010000
END:STANDARD
END:VTIMEZONE
BEGIN:VEVENT
DTSTART;TZID=Europe/Zurich:20250913T230000
DTEND;TZID=Europe/Zurich:20250914T043000
DTSTAMP:20260421T172424
CREATED:20250829T072333Z
LAST-MODIFIED:20251015T124815Z
UID:574-1757804400-1757824200@dieselkaraoke.ch
SUMMARY:Zu Gast am Off the Radar dezentral\, MS STUBNITZ
DESCRIPTION:…mit grosser Freude ist Dieselkaraoke dabei am dezentralen off the Radar was 2014 in Neuseeland seinen Anfang nahm. Schon damals hat sich gezeigt dass Singen einfach die Lösung aller Probleme ist. Also in der heutigen Zeit ein absolutes muss…. Kommt\, singt\, seid glücklich! \n\n\n\ndefault
URL:https://dieselkaraoke.ch/event/zu-gast-am-off-the-radar-dezentral-ms-stubnitz/
CATEGORIES:PAST EVENT
END:VEVENT
END:VCALENDAR