BEGIN:VCALENDAR
VERSION:2.0
PRODID:-//Karaoke all over the world - ECPv6.15.20//NONSGML v1.0//EN
CALSCALE:GREGORIAN
METHOD:PUBLISH
X-ORIGINAL-URL:https://dieselkaraoke.ch
X-WR-CALDESC:Veranstaltungen für Karaoke all over the world
REFRESH-INTERVAL;VALUE=DURATION:PT1H
X-Robots-Tag:noindex
X-PUBLISHED-TTL:PT1H
BEGIN:VTIMEZONE
TZID:Europe/Zurich
BEGIN:DAYLIGHT
TZOFFSETFROM:+0100
TZOFFSETTO:+0200
TZNAME:CEST
DTSTART:20240331T010000
END:DAYLIGHT
BEGIN:STANDARD
TZOFFSETFROM:+0200
TZOFFSETTO:+0100
TZNAME:CET
DTSTART:20241027T010000
END:STANDARD
BEGIN:DAYLIGHT
TZOFFSETFROM:+0100
TZOFFSETTO:+0200
TZNAME:CEST
DTSTART:20250330T010000
END:DAYLIGHT
BEGIN:STANDARD
TZOFFSETFROM:+0200
TZOFFSETTO:+0100
TZNAME:CET
DTSTART:20251026T010000
END:STANDARD
BEGIN:DAYLIGHT
TZOFFSETFROM:+0100
TZOFFSETTO:+0200
TZNAME:CEST
DTSTART:20260329T010000
END:DAYLIGHT
BEGIN:STANDARD
TZOFFSETFROM:+0200
TZOFFSETTO:+0100
TZNAME:CET
DTSTART:20261025T010000
END:STANDARD
END:VTIMEZONE
BEGIN:VEVENT
DTSTART;TZID=Europe/Zurich:20250909T210000
DTEND;TZID=Europe/Zurich:20250910T020000
DTSTAMP:20260421T172439
CREATED:20250829T065321Z
LAST-MODIFIED:20251015T124826Z
UID:568-1757451600-1757469600@dieselkaraoke.ch
SUMMARY:Dieselkaraoke zu Gast im Monster Ronsons Ichiban Karaoke Club Berlin
DESCRIPTION:zurück wo alles seinen Anfang nahm….. \n\n\n\nkommt vorbei und lasset uns singen!
URL:https://dieselkaraoke.ch/event/dieselkaraoke-zu-gast-im-monster-ronsons-ichiban-karaoke-club-berlin/
LOCATION:Monster Ronsons
CATEGORIES:PAST EVENT
END:VEVENT
END:VCALENDAR