BEGIN:VCALENDAR
VERSION:2.0
PRODID:-//Karaoke all over the world - ECPv6.15.20//NONSGML v1.0//EN
CALSCALE:GREGORIAN
METHOD:PUBLISH
X-WR-CALNAME:Karaoke all over the world
X-ORIGINAL-URL:https://dieselkaraoke.ch
X-WR-CALDESC:Veranstaltungen für Karaoke all over the world
REFRESH-INTERVAL;VALUE=DURATION:PT1H
X-Robots-Tag:noindex
X-PUBLISHED-TTL:PT1H
BEGIN:VTIMEZONE
TZID:Europe/Zurich
BEGIN:DAYLIGHT
TZOFFSETFROM:+0100
TZOFFSETTO:+0200
TZNAME:CEST
DTSTART:20240331T010000
END:DAYLIGHT
BEGIN:STANDARD
TZOFFSETFROM:+0200
TZOFFSETTO:+0100
TZNAME:CET
DTSTART:20241027T010000
END:STANDARD
BEGIN:DAYLIGHT
TZOFFSETFROM:+0100
TZOFFSETTO:+0200
TZNAME:CEST
DTSTART:20250330T010000
END:DAYLIGHT
BEGIN:STANDARD
TZOFFSETFROM:+0200
TZOFFSETTO:+0100
TZNAME:CET
DTSTART:20251026T010000
END:STANDARD
BEGIN:DAYLIGHT
TZOFFSETFROM:+0100
TZOFFSETTO:+0200
TZNAME:CEST
DTSTART:20260329T010000
END:DAYLIGHT
BEGIN:STANDARD
TZOFFSETFROM:+0200
TZOFFSETTO:+0100
TZNAME:CET
DTSTART:20261025T010000
END:STANDARD
END:VTIMEZONE
BEGIN:VEVENT
DTSTART;TZID=Europe/Zurich:20250904T210000
DTEND;TZID=Europe/Zurich:20250905T020000
DTSTAMP:20260421T171933
CREATED:20250829T065902Z
LAST-MODIFIED:20251015T124834Z
UID:572-1757019600-1757037600@dieselkaraoke.ch
SUMMARY:Dieselkaraoke zu Gast beim Karaokemonster…
DESCRIPTION:back to the Roots… \n\n\n\ncome around\, lets sing together…
URL:https://dieselkaraoke.ch/event/dieselkaraoke-zu-gast-beim-karaokemonster/
LOCATION:Monster Ronsons
CATEGORIES:PAST EVENT
ATTACH;FMTTYPE=image/jpeg:https://dieselkaraoke.ch/wp-content/uploads/2022/11/original-288x314-1.jpeg
END:VEVENT
END:VCALENDAR