BEGIN:VCALENDAR
VERSION:2.0
PRODID:-//Karaoke all over the world - ECPv6.15.20//NONSGML v1.0//EN
CALSCALE:GREGORIAN
METHOD:PUBLISH
X-ORIGINAL-URL:https://dieselkaraoke.ch
X-WR-CALDESC:Veranstaltungen für Karaoke all over the world
REFRESH-INTERVAL;VALUE=DURATION:PT1H
X-Robots-Tag:noindex
X-PUBLISHED-TTL:PT1H
BEGIN:VTIMEZONE
TZID:Europe/Zurich
BEGIN:DAYLIGHT
TZOFFSETFROM:+0100
TZOFFSETTO:+0200
TZNAME:CEST
DTSTART:20240331T010000
END:DAYLIGHT
BEGIN:STANDARD
TZOFFSETFROM:+0200
TZOFFSETTO:+0100
TZNAME:CET
DTSTART:20241027T010000
END:STANDARD
BEGIN:DAYLIGHT
TZOFFSETFROM:+0100
TZOFFSETTO:+0200
TZNAME:CEST
DTSTART:20250330T010000
END:DAYLIGHT
BEGIN:STANDARD
TZOFFSETFROM:+0200
TZOFFSETTO:+0100
TZNAME:CET
DTSTART:20251026T010000
END:STANDARD
BEGIN:DAYLIGHT
TZOFFSETFROM:+0100
TZOFFSETTO:+0200
TZNAME:CEST
DTSTART:20260329T010000
END:DAYLIGHT
BEGIN:STANDARD
TZOFFSETFROM:+0200
TZOFFSETTO:+0100
TZNAME:CET
DTSTART:20261025T010000
END:STANDARD
END:VTIMEZONE
BEGIN:VEVENT
DTSTART;TZID=Europe/Zurich:20250613T230000
DTEND;TZID=Europe/Zurich:20250613T230000
DTSTAMP:20260421T224005
CREATED:20250514T100826Z
LAST-MODIFIED:20250602T121734Z
UID:537-1749855600-1749855600@dieselkaraoke.ch
SUMMARY:Karaoke Night
DESCRIPTION:Das warten hat ein Ende… Bern bisch parat? \n\n\n\n\n\n\n\n\n\n\n\nSingspass für alle!\n\n\n\nFrüh kommen = viel singen!
URL:https://dieselkaraoke.ch/event/karaoke-night/
CATEGORIES:NEXT GIGS
ATTACH;FMTTYPE=image/jpeg:https://dieselkaraoke.ch/wp-content/uploads/2025/05/Unbenannt-1.jpeg
END:VEVENT
END:VCALENDAR