BEGIN:VCALENDAR
VERSION:2.0
PRODID:-//Karaoke all over the world - ECPv6.15.20//NONSGML v1.0//EN
CALSCALE:GREGORIAN
METHOD:PUBLISH
X-WR-CALNAME:Karaoke all over the world
X-ORIGINAL-URL:https://dieselkaraoke.ch
X-WR-CALDESC:Veranstaltungen für Karaoke all over the world
REFRESH-INTERVAL;VALUE=DURATION:PT1H
X-Robots-Tag:noindex
X-PUBLISHED-TTL:PT1H
BEGIN:VTIMEZONE
TZID:Europe/Zurich
BEGIN:DAYLIGHT
TZOFFSETFROM:+0100
TZOFFSETTO:+0200
TZNAME:CEST
DTSTART:20240331T010000
END:DAYLIGHT
BEGIN:STANDARD
TZOFFSETFROM:+0200
TZOFFSETTO:+0100
TZNAME:CET
DTSTART:20241027T010000
END:STANDARD
BEGIN:DAYLIGHT
TZOFFSETFROM:+0100
TZOFFSETTO:+0200
TZNAME:CEST
DTSTART:20250330T010000
END:DAYLIGHT
BEGIN:STANDARD
TZOFFSETFROM:+0200
TZOFFSETTO:+0100
TZNAME:CET
DTSTART:20251026T010000
END:STANDARD
BEGIN:DAYLIGHT
TZOFFSETFROM:+0100
TZOFFSETTO:+0200
TZNAME:CEST
DTSTART:20260329T010000
END:DAYLIGHT
BEGIN:STANDARD
TZOFFSETFROM:+0200
TZOFFSETTO:+0100
TZNAME:CET
DTSTART:20261025T010000
END:STANDARD
END:VTIMEZONE
BEGIN:VEVENT
DTSTART;TZID=Europe/Zurich:20250516T210000
DTEND;TZID=Europe/Zurich:20250517T220000
DTSTAMP:20260422T003628
CREATED:20250412T131307Z
LAST-MODIFIED:20250412T131421Z
UID:534-1747429200-1747519200@dieselkaraoke.ch
SUMMARY:Karaoke am Jahresfest in der                   alten Hackerei!
DESCRIPTION:Wie jedes Jahr werden wir zusammen am legendären Hackereifest\, unsere Stimmen zum besten geben. Die leckeren Cocktails und Drinks bringen die Sache so richtig in Schwung! Ich freue mich auf euch!
URL:https://dieselkaraoke.ch/event/karaoke-am-jahresfest-in-der-alten-hackerei/
CATEGORIES:NEXT GIGS
END:VEVENT
END:VCALENDAR